BEGIN:VCALENDAR
VERSION:2.0
PRODID:-//Warrior Performance Group - ECPv6.15.15//NONSGML v1.0//EN
CALSCALE:GREGORIAN
METHOD:PUBLISH
X-ORIGINAL-URL:https://warriorperformancegroupllc.com
X-WR-CALDESC:Events for Warrior Performance Group
REFRESH-INTERVAL;VALUE=DURATION:PT1H
X-Robots-Tag:noindex
X-PUBLISHED-TTL:PT1H
BEGIN:VTIMEZONE
TZID:America/Halifax
BEGIN:DAYLIGHT
TZOFFSETFROM:-0400
TZOFFSETTO:-0300
TZNAME:ADT
DTSTART:20240310T060000
END:DAYLIGHT
BEGIN:STANDARD
TZOFFSETFROM:-0300
TZOFFSETTO:-0400
TZNAME:AST
DTSTART:20241103T050000
END:STANDARD
BEGIN:DAYLIGHT
TZOFFSETFROM:-0400
TZOFFSETTO:-0300
TZNAME:ADT
DTSTART:20250309T060000
END:DAYLIGHT
BEGIN:STANDARD
TZOFFSETFROM:-0300
TZOFFSETTO:-0400
TZNAME:AST
DTSTART:20251102T050000
END:STANDARD
BEGIN:DAYLIGHT
TZOFFSETFROM:-0400
TZOFFSETTO:-0300
TZNAME:ADT
DTSTART:20260308T060000
END:DAYLIGHT
BEGIN:STANDARD
TZOFFSETFROM:-0300
TZOFFSETTO:-0400
TZNAME:AST
DTSTART:20261101T050000
END:STANDARD
END:VTIMEZONE
BEGIN:VEVENT
DTSTART;TZID=America/Halifax:20251015T000000
DTEND;TZID=America/Halifax:20251019T235959
DTSTAMP:20260423T121026
CREATED:20251005T154429Z
LAST-MODIFIED:20251005T154558Z
UID:1585-1760486400-1760918399@warriorperformancegroupllc.com
SUMMARY:MYRTLE BEACH RV EXPO
DESCRIPTION:Hosted at Recreation USA – 5031 Dick Pond Rd.\, Myrtle Beach\, SC 29588\nFree Admission | Free Parking | Free Food | Special RV Financing | Factory Reps On-Site \nLearn more at – https://myrtlebeachrvexpo.com/
URL:https://warriorperformancegroupllc.com/event/myrtle-beach-rv-expo/
LOCATION:Recreation USA\, 5031 Dick Pond Rd\, Myrtle Beach\, SC\, 29588\, United States
END:VEVENT
END:VCALENDAR